BEGIN:VCALENDAR
VERSION:2.0
PRODID:-//www.cla-va.org//NONSGML kigkonsult.se iCalcreator 2.30.10//
CALSCALE:GREGORIAN
METHOD:PUBLISH
UID:80c006d2-d4b5-4b32-a0bf-ea1c590db5cf
X-WR-CALDESC:
X-WR-RELCALID:bab26983284df3dd6ddac2843b7f3fd4
X-WR-TIMEZONE:America/New_York
BEGIN:VTIMEZONE
TZID:America/New_York
BEGIN:STANDARD
TZNAME:EST
DTSTART:20231105T020000
TZOFFSETFROM:-0400
TZOFFSETTO:-0500
RDATE:20241103T020000
END:STANDARD
BEGIN:DAYLIGHT
TZNAME:EDT
DTSTART:20230312T020000
TZOFFSETFROM:-0500
TZOFFSETTO:-0400
RDATE:20240310T020000
RDATE:20250309T020000
END:DAYLIGHT
END:VTIMEZONE
BEGIN:VEVENT
UID:9c9eb9e2-bc26-4ff5-99f7-6bf2305ce374
DTSTAMP:20260426T030723Z
DESCRIPTION:
DTSTART;TZID=America/New_York:20240208T000000
DTEND;TZID=America/New_York:20240208T235900
LOCATION:
SUMMARY:KT Birthday
END:VEVENT
END:VCALENDAR
