BEGIN:VCALENDAR
VERSION:2.0
PRODID:-//www.cla-va.org//NONSGML kigkonsult.se iCalcreator 2.30.10//
CALSCALE:GREGORIAN
METHOD:PUBLISH
UID:6f76c9b4-1b87-44ee-8fcb-87724b937283
X-WR-CALDESC:This is a Mandt Recertification class for those students whose
  certification has not yet expired.
X-WR-RELCALID:7eecbd5157785f4ce13101398760b64a
X-WR-TIMEZONE:America/New_York
BEGIN:VTIMEZONE
TZID:America/New_York
BEGIN:STANDARD
TZNAME:EST
DTSTART:20241103T020000
TZOFFSETFROM:-0400
TZOFFSETTO:-0500
RDATE:20251102T020000
RDATE:20261101T020000
END:STANDARD
BEGIN:DAYLIGHT
TZNAME:EDT
DTSTART:20250309T020000
TZOFFSETFROM:-0500
TZOFFSETTO:-0400
RDATE:20260308T020000
END:DAYLIGHT
END:VTIMEZONE
BEGIN:VEVENT
UID:e2932c47-8491-4680-8917-ab8acac26bd0
DTSTAMP:20260425T040201Z
DESCRIPTION:This is a Mandt Recertification class for those students whose 
 certification has not yet expired.
DTSTART;TZID=America/New_York:20250821T153000
DTEND;TZID=America/New_York:20250821T203000
LOCATION:9401 Lee Highway\, 406\, 9401 Lee highway\, Suite 406\, Fairfax?\,
  AL 22031 US
SUMMARY:Mandt Recertification
END:VEVENT
END:VCALENDAR
