BEGIN:VCALENDAR
VERSION:2.0
PRODID:-//www.cla-va.org//NONSGML kigkonsult.se iCalcreator 2.30.10//
CALSCALE:GREGORIAN
METHOD:PUBLISH
UID:b651fd56-2198-4f28-8caa-42e971f04cc2
X-WR-CALDESC:Come celebrate the amazing men and women who support thousands
  of individuals with intellectual and developmental disabilities in Northe
 rn Virginia.  There will be food\, music and celebration!  Over 400 nomina
 tions were received this year me see who goes home with the awards!
X-WR-RELCALID:e8f9e42d0b5e4dea0245cb27a93535d1
X-WR-TIMEZONE:America/New_York
BEGIN:VTIMEZONE
TZID:America/New_York
BEGIN:STANDARD
TZNAME:EST
DTSTART:20241103T020000
TZOFFSETFROM:-0400
TZOFFSETTO:-0500
RDATE:20251102T020000
RDATE:20261101T020000
END:STANDARD
BEGIN:DAYLIGHT
TZNAME:EDT
DTSTART:20250309T020000
TZOFFSETFROM:-0500
TZOFFSETTO:-0400
RDATE:20260308T020000
END:DAYLIGHT
END:VTIMEZONE
BEGIN:VEVENT
UID:563b440a-d60d-41ce-a735-82d2c4e22725
DTSTAMP:20260425T023439Z
DESCRIPTION:Come celebrate the amazing men and women who support thousands 
 of individuals with intellectual and developmental disabilities in Norther
 n Virginia.  There will be food\, music and celebration!  Over 400 nominat
 ions were received this year me see who goes home with the awards!
DTSTART;TZID=America/New_York:20250911T180000
DTEND;TZID=America/New_York:20250911T210000
LOCATION:3740 Blenheim Boulevard\, Fairfax\, VA 22030 US
SUMMARY:3rd Annual DSPY Awards
END:VEVENT
END:VCALENDAR
