BEGIN:VCALENDAR
VERSION:2.0
PRODID:-//www.cla-va.org//NONSGML kigkonsult.se iCalcreator 2.30.10//
CALSCALE:GREGORIAN
METHOD:PUBLISH
UID:96a4f11a-5972-4d7e-9756-2227ed25e681
X-WR-CALDESC:
X-WR-RELCALID:a0e5581e5149769a5ca3ae5146ad4884
X-WR-TIMEZONE:America/New_York
BEGIN:VTIMEZONE
TZID:America/New_York
BEGIN:STANDARD
TZNAME:EST
DTSTART:20241103T020000
TZOFFSETFROM:-0400
TZOFFSETTO:-0500
RDATE:20251102T020000
RDATE:20261101T020000
END:STANDARD
BEGIN:DAYLIGHT
TZNAME:EDT
DTSTART:20250309T020000
TZOFFSETFROM:-0500
TZOFFSETTO:-0400
RDATE:20260308T020000
RDATE:20270314T020000
END:DAYLIGHT
END:VTIMEZONE
BEGIN:VEVENT
UID:0eb8494e-d9fa-4230-99e2-d585df3c59a8
DTSTAMP:20260425T012417Z
DESCRIPTION:
DTSTART;TZID=America/New_York:20251017T060000
DTEND;TZID=America/New_York:20251017T060001
LOCATION:
SUMMARY:Doug's Birthday!!
END:VEVENT
END:VCALENDAR
