BEGIN:VCALENDAR
VERSION:2.0
PRODID:-//www.cla-va.org//NONSGML kigkonsult.se iCalcreator 2.30.10//
CALSCALE:GREGORIAN
METHOD:PUBLISH
UID:cdba7e26-7e71-4af9-88da-7f170e1f843d
X-WR-CALDESC:
X-WR-RELCALID:c216175d5253af23491b1f35b0fbcaad
X-WR-TIMEZONE:America/New_York
BEGIN:VTIMEZONE
TZID:America/New_York
BEGIN:STANDARD
TZNAME:EST
DTSTART:20251102T020000
TZOFFSETFROM:-0400
TZOFFSETTO:-0500
RDATE:20261101T020000
END:STANDARD
BEGIN:DAYLIGHT
TZNAME:EDT
DTSTART:20250309T020000
TZOFFSETFROM:-0500
TZOFFSETTO:-0400
RDATE:20260308T020000
RDATE:20270314T020000
END:DAYLIGHT
END:VTIMEZONE
BEGIN:VEVENT
UID:134cac2b-7f0d-486c-ac6e-9581b9cf96d2
DTSTAMP:20260425T000127Z
DESCRIPTION:
DTSTART;TZID=America/New_York:20251107T060000
DTEND;TZID=America/New_York:20251107T060001
LOCATION:
SUMMARY:Scott D's Birthday!!
END:VEVENT
END:VCALENDAR
