BEGIN:VCALENDAR
VERSION:2.0
PRODID:-//www.cla-va.org//NONSGML kigkonsult.se iCalcreator 2.30.10//
CALSCALE:GREGORIAN
METHOD:PUBLISH
UID:88fa4a8a-b970-464e-9343-7500fbb27e1b
X-WR-CALDESC:
X-WR-RELCALID:951d8ce62fc299e99222b0a95cb9b2af
X-WR-TIMEZONE:America/New_York
BEGIN:VTIMEZONE
TZID:America/New_York
BEGIN:STANDARD
TZNAME:EST
DTSTART:20251102T020000
TZOFFSETFROM:-0400
TZOFFSETTO:-0500
RDATE:20261101T020000
END:STANDARD
BEGIN:DAYLIGHT
TZNAME:EDT
DTSTART:20250309T020000
TZOFFSETFROM:-0500
TZOFFSETTO:-0400
RDATE:20260308T020000
RDATE:20270314T020000
END:DAYLIGHT
END:VTIMEZONE
BEGIN:VEVENT
UID:ef675769-5537-4da8-998b-8e17b8e20509
DTSTAMP:20260425T001313Z
DESCRIPTION:
DTSTART;TZID=America/New_York:20251107T060000
DTEND;TZID=America/New_York:20251107T060001
LOCATION:
SUMMARY:Fred's Birthday
END:VEVENT
END:VCALENDAR
