BEGIN:VCALENDAR
VERSION:2.0
PRODID:-//www.cla-va.org//NONSGML kigkonsult.se iCalcreator 2.30.10//
CALSCALE:GREGORIAN
METHOD:PUBLISH
UID:001449ae-10d4-4a30-8539-d377de110f4e
X-WR-CALDESC:
X-WR-RELCALID:9ddd491f5a114cfd64cb1ba829374b2b
X-WR-TIMEZONE:America/New_York
BEGIN:VTIMEZONE
TZID:America/New_York
BEGIN:STANDARD
TZNAME:EST
DTSTART:20251102T020000
TZOFFSETFROM:-0400
TZOFFSETTO:-0500
RDATE:20261101T020000
END:STANDARD
BEGIN:DAYLIGHT
TZNAME:EDT
DTSTART:20250309T020000
TZOFFSETFROM:-0500
TZOFFSETTO:-0400
RDATE:20260308T020000
RDATE:20270314T020000
END:DAYLIGHT
END:VTIMEZONE
BEGIN:VEVENT
UID:504bf617-12c1-4955-92b9-8f2ea09fea4c
DTSTAMP:20260425T001109Z
DESCRIPTION:
DTSTART;TZID=America/New_York:20251113T060000
DTEND;TZID=America/New_York:20251113T060001
LOCATION:
SUMMARY:Linda A's Birthday!!
END:VEVENT
END:VCALENDAR
