BEGIN:VCALENDAR
VERSION:2.0
PRODID:-//www.cla-va.org//NONSGML kigkonsult.se iCalcreator 2.30.10//
CALSCALE:GREGORIAN
METHOD:PUBLISH
UID:a9d03830-04b2-47cb-8b84-7b973f3c08f7
X-WR-CALDESC:
X-WR-RELCALID:ff334c09def744c7557e8d3bacb5a228
X-WR-TIMEZONE:America/New_York
BEGIN:VTIMEZONE
TZID:America/New_York
BEGIN:STANDARD
TZNAME:EST
DTSTART:20251102T020000
TZOFFSETFROM:-0400
TZOFFSETTO:-0500
RDATE:20261101T020000
END:STANDARD
BEGIN:DAYLIGHT
TZNAME:EDT
DTSTART:20250309T020000
TZOFFSETFROM:-0500
TZOFFSETTO:-0400
RDATE:20260308T020000
RDATE:20270314T020000
END:DAYLIGHT
END:VTIMEZONE
BEGIN:VEVENT
UID:80ccd1e2-148d-44ca-af94-d6425782e262
DTSTAMP:20260425T001639Z
DESCRIPTION:
DTSTART;TZID=America/New_York:20251118T060000
DTEND;TZID=America/New_York:20251118T060001
LOCATION:
SUMMARY:Andrew V's Birthday!!
END:VEVENT
END:VCALENDAR
