BEGIN:VCALENDAR
VERSION:2.0
PRODID:-//www.cla-va.org//NONSGML kigkonsult.se iCalcreator 2.30.10//
CALSCALE:GREGORIAN
METHOD:PUBLISH
UID:af392d41-1133-4f4e-bbb7-fbde1f94b673
X-WR-CALDESC:
X-WR-RELCALID:61393ab9072d85ab9a0c127054449476
X-WR-TIMEZONE:America/New_York
BEGIN:VTIMEZONE
TZID:America/New_York
BEGIN:STANDARD
TZNAME:EST
DTSTART:20251102T020000
TZOFFSETFROM:-0400
TZOFFSETTO:-0500
RDATE:20261101T020000
END:STANDARD
BEGIN:DAYLIGHT
TZNAME:EDT
DTSTART:20250309T020000
TZOFFSETFROM:-0500
TZOFFSETTO:-0400
RDATE:20260308T020000
RDATE:20270314T020000
END:DAYLIGHT
END:VTIMEZONE
BEGIN:VEVENT
UID:16c74033-7b37-4c28-87ad-fd18a9456373
DTSTAMP:20260425T001230Z
DESCRIPTION:
DTSTART;TZID=America/New_York:20251122T060000
DTEND;TZID=America/New_York:20251122T060001
LOCATION:
SUMMARY:Richard C's Birthday!!
END:VEVENT
END:VCALENDAR
