BEGIN:VCALENDAR
VERSION:2.0
PRODID:-//www.cla-va.org//NONSGML kigkonsult.se iCalcreator 2.30.10//
CALSCALE:GREGORIAN
METHOD:PUBLISH
UID:d8240115-c242-424f-9c8a-1bf3ecabb649
X-WR-CALDESC:
X-WR-RELCALID:715fc65a53ff2bf80e40adbb491a76e8
X-WR-TIMEZONE:America/New_York
BEGIN:VTIMEZONE
TZID:America/New_York
BEGIN:STANDARD
TZNAME:EST
DTSTART:20251102T020000
TZOFFSETFROM:-0400
TZOFFSETTO:-0500
RDATE:20261101T020000
END:STANDARD
BEGIN:DAYLIGHT
TZNAME:EDT
DTSTART:20250309T020000
TZOFFSETFROM:-0500
TZOFFSETTO:-0400
RDATE:20260308T020000
RDATE:20270314T020000
END:DAYLIGHT
END:VTIMEZONE
BEGIN:VEVENT
UID:625d5c6b-d0f3-4ce6-bae0-5e641e9f7b0e
DTSTAMP:20260425T000251Z
DESCRIPTION:
DTSTART;TZID=America/New_York:20251127T060000
DTEND;TZID=America/New_York:20251127T060001
LOCATION:
SUMMARY:Shakirat's Birthday!!
END:VEVENT
END:VCALENDAR
