BEGIN:VCALENDAR
VERSION:2.0
PRODID:-//www.cla-va.org//NONSGML kigkonsult.se iCalcreator 2.30.10//
CALSCALE:GREGORIAN
METHOD:PUBLISH
UID:ce96e9f5-6322-4c6e-9b20-b72d68f62096
X-WR-CALDESC:
X-WR-RELCALID:8aea82b6eb63cbecee63c4b2f5f40deb
X-WR-TIMEZONE:America/New_York
BEGIN:VTIMEZONE
TZID:America/New_York
BEGIN:STANDARD
TZNAME:EST
DTSTART:20251102T020000
TZOFFSETFROM:-0400
TZOFFSETTO:-0500
RDATE:20261101T020000
END:STANDARD
BEGIN:DAYLIGHT
TZNAME:EDT
DTSTART:20250309T020000
TZOFFSETFROM:-0500
TZOFFSETTO:-0400
RDATE:20260308T020000
RDATE:20270314T020000
END:DAYLIGHT
END:VTIMEZONE
BEGIN:VEVENT
UID:3d663426-17b8-4561-b684-ee9fce4d0734
DTSTAMP:20260425T001426Z
DESCRIPTION:
DTSTART;TZID=America/New_York:20251128T060000
DTEND;TZID=America/New_York:20251128T060001
LOCATION:
SUMMARY:David S's Birthday!!
END:VEVENT
END:VCALENDAR
