BEGIN:VCALENDAR
VERSION:2.0
PRODID:-//www.cla-va.org//NONSGML kigkonsult.se iCalcreator 2.30.10//
CALSCALE:GREGORIAN
METHOD:PUBLISH
UID:efbefedb-b931-4216-aba0-3b49f4086b97
X-WR-CALDESC:Please apply on our Careers Tab before the event.
X-WR-RELCALID:6ab9cff0950766ffe2dcbc3c45e38148
X-WR-TIMEZONE:America/New_York
BEGIN:VTIMEZONE
TZID:America/New_York
BEGIN:STANDARD
TZNAME:EST
DTSTART:20251102T020000
TZOFFSETFROM:-0400
TZOFFSETTO:-0500
RDATE:20261101T020000
END:STANDARD
BEGIN:DAYLIGHT
TZNAME:EDT
DTSTART:20250309T020000
TZOFFSETFROM:-0500
TZOFFSETTO:-0400
RDATE:20260308T020000
RDATE:20270314T020000
END:DAYLIGHT
END:VTIMEZONE
BEGIN:VEVENT
UID:ab44e344-2a06-4457-967a-251ac909f8ac
DTSTAMP:20260424T225234Z
DESCRIPTION:Please apply on our Careers Tab before the event.
DTSTART;TZID=America/New_York:20251204T083000
DTEND;TZID=America/New_York:20251204T163000
LOCATION:9401 Lee Highway\, Suite 406\, Fairfax\, VA 22031 US
SUMMARY:Hiring Blitz Job Fair
END:VEVENT
END:VCALENDAR
