BEGIN:VCALENDAR
VERSION:2.0
PRODID:-//www.cla-va.org//NONSGML kigkonsult.se iCalcreator 2.30.10//
CALSCALE:GREGORIAN
METHOD:PUBLISH
UID:7ad5ddeb-83ad-4592-bab8-244a6fe4aa9c
X-WR-CALDESC:
X-WR-RELCALID:fb968068bf2ce914629b862abb5aae02
X-WR-TIMEZONE:America/New_York
BEGIN:VTIMEZONE
TZID:America/New_York
BEGIN:STANDARD
TZNAME:EST
DTSTART:20251102T020000
TZOFFSETFROM:-0400
TZOFFSETTO:-0500
RDATE:20261101T020000
END:STANDARD
BEGIN:DAYLIGHT
TZNAME:EDT
DTSTART:20250309T020000
TZOFFSETFROM:-0500
TZOFFSETTO:-0400
RDATE:20260308T020000
RDATE:20270314T020000
END:DAYLIGHT
END:VTIMEZONE
BEGIN:VEVENT
UID:40e5a9d1-6221-4efd-b87a-61b8eb983257
DTSTAMP:20260424T225714Z
DESCRIPTION:
DTSTART;TZID=America/New_York:20251216T173000
DTEND;TZID=America/New_York:20251216T203000
LOCATION:Providence Recreation Center\, Marc Drive\, FALLS CHURCH\, VA 2204
 2 US
SUMMARY:CLA Holiday Party!!!
END:VEVENT
END:VCALENDAR
