BEGIN:VCALENDAR
VERSION:2.0
PRODID:-//www.cla-va.org//NONSGML kigkonsult.se iCalcreator 2.30.10//
CALSCALE:GREGORIAN
METHOD:PUBLISH
UID:c95a8798-d604-4723-912c-c976ed22ea72
X-WR-CALDESC:
X-WR-RELCALID:ab74f308c7c5a6a3002f5ef7bbbdff7c
X-WR-TIMEZONE:America/New_York
BEGIN:VTIMEZONE
TZID:America/New_York
BEGIN:STANDARD
TZNAME:EST
DTSTART:20251102T020000
TZOFFSETFROM:-0400
TZOFFSETTO:-0500
RDATE:20261101T020000
END:STANDARD
BEGIN:DAYLIGHT
TZNAME:EDT
DTSTART:20250309T020000
TZOFFSETFROM:-0500
TZOFFSETTO:-0400
RDATE:20260308T020000
RDATE:20270314T020000
END:DAYLIGHT
END:VTIMEZONE
BEGIN:VEVENT
UID:680ed021-ae6d-4ed4-bacc-ce05c0a43667
DTSTAMP:20260424T225031Z
DESCRIPTION:
DTSTART;TZID=America/New_York:20251228T060000
DTEND;TZID=America/New_York:20251228T060001
LOCATION:
SUMMARY:Kevin's Birthday
END:VEVENT
END:VCALENDAR
