BEGIN:VCALENDAR
VERSION:2.0
PRODID:-//www.cla-va.org//NONSGML kigkonsult.se iCalcreator 2.30.10//
CALSCALE:GREGORIAN
METHOD:PUBLISH
UID:03dcd6db-3d8b-42d3-ac83-bea20098738e
X-WR-CALDESC:
X-WR-RELCALID:ce16b4990a86ed29d77a5ee71a7e8708
X-WR-TIMEZONE:America/New_York
BEGIN:VTIMEZONE
TZID:America/New_York
BEGIN:STANDARD
TZNAME:EST
DTSTART:20251102T020000
TZOFFSETFROM:-0400
TZOFFSETTO:-0500
RDATE:20261101T020000
END:STANDARD
BEGIN:DAYLIGHT
TZNAME:EDT
DTSTART:20250309T020000
TZOFFSETFROM:-0500
TZOFFSETTO:-0400
RDATE:20260308T020000
RDATE:20270314T020000
END:DAYLIGHT
END:VTIMEZONE
BEGIN:VEVENT
UID:29fd62cc-e89e-4a45-a343-e2ea4897571c
DTSTAMP:20260424T200019Z
DESCRIPTION:
DTSTART;TZID=America/New_York:20260208T000000
DTEND;TZID=America/New_York:20260208T235900
LOCATION:
SUMMARY:KT Birthday
END:VEVENT
END:VCALENDAR
