BEGIN:VCALENDAR
VERSION:2.0
PRODID:-//www.cla-va.org//NONSGML kigkonsult.se iCalcreator 2.30.10//
CALSCALE:GREGORIAN
METHOD:PUBLISH
UID:d3cffe3f-1a19-4285-bb5f-0a43a74261c5
X-WR-CALDESC:
X-WR-RELCALID:9a119ebe847edcb09b185be381a59579
X-WR-TIMEZONE:America/New_York
BEGIN:VTIMEZONE
TZID:America/New_York
BEGIN:STANDARD
TZNAME:EST
DTSTART:20251102T020000
TZOFFSETFROM:-0400
TZOFFSETTO:-0500
RDATE:20261101T020000
END:STANDARD
BEGIN:DAYLIGHT
TZNAME:EDT
DTSTART:20250309T020000
TZOFFSETFROM:-0500
TZOFFSETTO:-0400
RDATE:20260308T020000
RDATE:20270314T020000
END:DAYLIGHT
END:VTIMEZONE
BEGIN:VEVENT
UID:3ed0a862-24fa-4af8-bedd-3be9a0dbbd7a
DTSTAMP:20260424T200212Z
DESCRIPTION:
DTSTART;TZID=America/New_York:20260226T060000
DTEND;TZID=America/New_York:20260226T060001
LOCATION:
SUMMARY:Marcus's Birthday
END:VEVENT
END:VCALENDAR
