BEGIN:VCALENDAR
VERSION:2.0
PRODID:-//www.cla-va.org//NONSGML kigkonsult.se iCalcreator 2.30.10//
CALSCALE:GREGORIAN
METHOD:PUBLISH
UID:37f8cd80-e638-42d2-971c-641a8559018d
X-WR-CALDESC:This is a  2 day training and participants must be present for
  both trainings.  This training is offered free of charge for members of t
 he Northern Virginia Joint Training Coalition
X-WR-RELCALID:f886666712cb81c390e997928193f181
X-WR-TIMEZONE:America/New_York
BEGIN:VTIMEZONE
TZID:America/New_York
BEGIN:STANDARD
TZNAME:EST
DTSTART:20251102T020000
TZOFFSETFROM:-0400
TZOFFSETTO:-0500
RDATE:20261101T020000
END:STANDARD
BEGIN:DAYLIGHT
TZNAME:EDT
DTSTART:20250309T020000
TZOFFSETFROM:-0500
TZOFFSETTO:-0400
RDATE:20260308T020000
RDATE:20270314T020000
END:DAYLIGHT
END:VTIMEZONE
BEGIN:VEVENT
UID:96c95c34-6d68-434f-85b3-f0472db4e27e
DTSTAMP:20260424T183232Z
DESCRIPTION:This is a  2 day training and participants must be present for 
 both trainings.  This training is offered free of charge for members of th
 e Northern Virginia Joint Training Coalition
DTSTART;TZID=America/New_York:20260302T160000
DTEND;TZID=America/New_York:20260302T203000
LOCATION:9401 Lee Highway\, 406\, Fairfax\, AL 22031 US
SUMMARY:Mandt Initial Training (Day 1 of 2)
END:VEVENT
END:VCALENDAR
