BEGIN:VCALENDAR
VERSION:2.0
PRODID:-//www.cla-va.org//NONSGML kigkonsult.se iCalcreator 2.30.10//
CALSCALE:GREGORIAN
METHOD:PUBLISH
UID:29360b3b-ba60-4c95-8d3a-6f4adb5fb987
X-WR-CALDESC:This is the first day of a two day training.  Participants mus
 t be present for both days to be certified.  This training is for practiti
 oners who do not currently hold a current Mandt Certification.
X-WR-RELCALID:524dad8e1c54d912ad92ebbbaf52ad65
X-WR-TIMEZONE:America/New_York
BEGIN:VTIMEZONE
TZID:America/New_York
BEGIN:STANDARD
TZNAME:EST
DTSTART:20251102T020000
TZOFFSETFROM:-0400
TZOFFSETTO:-0500
RDATE:20261101T020000
END:STANDARD
BEGIN:DAYLIGHT
TZNAME:EDT
DTSTART:20260308T020000
TZOFFSETFROM:-0500
TZOFFSETTO:-0400
RDATE:20270314T020000
END:DAYLIGHT
END:VTIMEZONE
BEGIN:VEVENT
UID:319e58c9-6eae-4e10-a970-531259644c63
DTSTAMP:20260424T184001Z
DESCRIPTION:This is the first day of a two day training.  Participants must
  be present for both days to be certified.  This training is for practitio
 ners who do not currently hold a current Mandt Certification.
DTSTART;TZID=America/New_York:20260316T160000
DTEND;TZID=America/New_York:20260316T203000
LOCATION:9401 Lee Highway\, 406\, Fairfax\, AL 22031 US
SUMMARY:Mandt Day 1 of 2
END:VEVENT
END:VCALENDAR
