BEGIN:VCALENDAR
VERSION:2.0
PRODID:-//www.cla-va.org//NONSGML kigkonsult.se iCalcreator 2.30.10//
CALSCALE:GREGORIAN
METHOD:PUBLISH
UID:bffb90f5-a21c-4ecd-aa44-b512877a8ca3
X-WR-CALDESC:This is a training for people who currently maintain a valid M
 andt Certification and need to be recertified.  This training is free of c
 harge to members of the Northern Virginia Joint Training Coalition
X-WR-RELCALID:132a9788886c9671b2c455279969087d
X-WR-TIMEZONE:America/New_York
BEGIN:VTIMEZONE
TZID:America/New_York
BEGIN:STANDARD
TZNAME:EST
DTSTART:20251102T020000
TZOFFSETFROM:-0400
TZOFFSETTO:-0500
RDATE:20261101T020000
END:STANDARD
BEGIN:DAYLIGHT
TZNAME:EDT
DTSTART:20260308T020000
TZOFFSETFROM:-0500
TZOFFSETTO:-0400
RDATE:20270314T020000
END:DAYLIGHT
END:VTIMEZONE
BEGIN:VEVENT
UID:23179be5-1177-486d-92b0-1ff64cd3b893
DTSTAMP:20260424T184504Z
DESCRIPTION:This is a training for people who currently maintain a valid Ma
 ndt Certification and need to be recertified.  This training is free of ch
 arge to members of the Northern Virginia Joint Training Coalition
DTSTART;TZID=America/New_York:20260316T160000
DTEND;TZID=America/New_York:20260316T203000
LOCATION:9401 Lee Highway\, 406\, Fairfax\, AL 22031 US
SUMMARY:Mandt Recertification
END:VEVENT
END:VCALENDAR
