BEGIN:VCALENDAR
VERSION:2.0
PRODID:-//www.cla-va.org//NONSGML kigkonsult.se iCalcreator 2.30.10//
CALSCALE:GREGORIAN
METHOD:PUBLISH
UID:9e674b1d-8699-40fa-853e-8959e19179f3
X-WR-CALDESC:
X-WR-RELCALID:2bf79808d375728a21e97688ef9ff5fb
X-WR-TIMEZONE:America/New_York
BEGIN:VTIMEZONE
TZID:America/New_York
BEGIN:STANDARD
TZNAME:EST
DTSTART:20251102T020000
TZOFFSETFROM:-0400
TZOFFSETTO:-0500
RDATE:20261101T020000
END:STANDARD
BEGIN:DAYLIGHT
TZNAME:EDT
DTSTART:20260308T020000
TZOFFSETFROM:-0500
TZOFFSETTO:-0400
RDATE:20270314T020000
END:DAYLIGHT
END:VTIMEZONE
BEGIN:VEVENT
UID:a77efeb0-cacf-487d-aac0-4eac6b920803
DTSTAMP:20260424T184445Z
DESCRIPTION:
DTSTART;TZID=America/New_York:20260317T060000
DTEND;TZID=America/New_York:20260317T060001
LOCATION:
SUMMARY:Jennifer's Birthday!
END:VEVENT
END:VCALENDAR
