BEGIN:VCALENDAR
VERSION:2.0
PRODID:-//www.cla-va.org//NONSGML kigkonsult.se iCalcreator 2.30.10//
CALSCALE:GREGORIAN
METHOD:PUBLISH
UID:a9eab231-c204-4cba-b4fc-b3e06b2bf039
X-WR-CALDESC:This is the 2nd day of a two day training.  Participants must 
 be present for both days of training and meet other requirements in order 
 to receive their certificate.  This training is for practitioners who do n
 ot currently hold a current Mandt Certification.
X-WR-RELCALID:74d1781ddc528cf5610cc9343c2df683
X-WR-TIMEZONE:America/New_York
BEGIN:VTIMEZONE
TZID:America/New_York
BEGIN:STANDARD
TZNAME:EST
DTSTART:20251102T020000
TZOFFSETFROM:-0400
TZOFFSETTO:-0500
RDATE:20261101T020000
END:STANDARD
BEGIN:DAYLIGHT
TZNAME:EDT
DTSTART:20260308T020000
TZOFFSETFROM:-0500
TZOFFSETTO:-0400
RDATE:20270314T020000
END:DAYLIGHT
END:VTIMEZONE
BEGIN:VEVENT
UID:7b9e56e1-a00c-4b14-9ba8-d668f10fdb47
DTSTAMP:20260424T183613Z
DESCRIPTION:This is the 2nd day of a two day training.  Participants must b
 e present for both days of training and meet other requirements in order t
 o receive their certificate.  This training is for practitioners who do no
 t currently hold a current Mandt Certification.
DTSTART;TZID=America/New_York:20260317T160000
DTEND;TZID=America/New_York:20260317T203000
LOCATION:9401 Lee Highway\, 406\, Fairfax\, AL 22031 US
SUMMARY:Mandt Day 2 of 2
END:VEVENT
END:VCALENDAR
