BEGIN:VCALENDAR
VERSION:2.0
PRODID:-//www.cla-va.org//NONSGML kigkonsult.se iCalcreator 2.30.10//
CALSCALE:GREGORIAN
METHOD:PUBLISH
UID:4bd3084f-0c16-4ed4-ae1f-420e69eede31
X-WR-CALDESC:First Aid/CPR training utilizing the American Red Cross curric
 ulum.
X-WR-RELCALID:9757c49683b5453960588cd01694ae52
X-WR-TIMEZONE:America/New_York
BEGIN:VTIMEZONE
TZID:America/New_York
BEGIN:STANDARD
TZNAME:EST
DTSTART:20251102T020000
TZOFFSETFROM:-0400
TZOFFSETTO:-0500
RDATE:20261101T020000
END:STANDARD
BEGIN:DAYLIGHT
TZNAME:EDT
DTSTART:20260308T020000
TZOFFSETFROM:-0500
TZOFFSETTO:-0400
RDATE:20270314T020000
END:DAYLIGHT
END:VTIMEZONE
BEGIN:VEVENT
UID:a5e27ff3-6935-466c-94e8-7a72411a6564
DTSTAMP:20260424T183923Z
DESCRIPTION:First Aid/CPR training utilizing the American Red Cross curricu
 lum.
DTSTART;TZID=America/New_York:20260318T160000
DTEND;TZID=America/New_York:20260318T193000
LOCATION:9401 Lee Highway\, 406\, Fairfax\, AL 22031 US
SUMMARY:First Aid/CPR
END:VEVENT
END:VCALENDAR
