BEGIN:VCALENDAR
VERSION:2.0
PRODID:-//www.cla-va.org//NONSGML kigkonsult.se iCalcreator 2.30.10//
CALSCALE:GREGORIAN
METHOD:PUBLISH
UID:fe78cafa-5e30-451f-b165-96b939f5672b
X-WR-CALDESC:
X-WR-RELCALID:d6e041237259b772fc1e568f82b92125
X-WR-TIMEZONE:America/New_York
BEGIN:VTIMEZONE
TZID:America/New_York
BEGIN:STANDARD
TZNAME:EST
DTSTART:20251102T020000
TZOFFSETFROM:-0400
TZOFFSETTO:-0500
RDATE:20261101T020000
END:STANDARD
BEGIN:DAYLIGHT
TZNAME:EDT
DTSTART:20260308T020000
TZOFFSETFROM:-0500
TZOFFSETTO:-0400
RDATE:20270314T020000
END:DAYLIGHT
END:VTIMEZONE
BEGIN:VEVENT
UID:39358a6a-bbb3-4458-ba4a-183904505034
DTSTAMP:20260424T171605Z
DESCRIPTION:
DTSTART;TZID=America/New_York:20260425T060000
DTEND;TZID=America/New_York:20260425T060001
LOCATION:
SUMMARY:Mike G's Birthday!!
END:VEVENT
END:VCALENDAR
